BEGIN:VCALENDAR
VERSION:2.0
PRODID:icalendar-ruby
CALSCALE:GREGORIAN
METHOD:PUBLISH
BEGIN:VEVENT
DTSTAMP:20260424T200630Z
UID:976-8214@rockonlocke.ca
DTSTART:20260502T140000Z
DTEND:20260502T160000Z
CLASS:PUBLIC
CREATED:20260423T150531
DESCRIPTION:\n\n\n\n\n\n\n\nHAMILTON! Free event: "Water is life\, not a co
 mmodity" organized by EcoLocke\n\n\nWHEN: May 2\, 2026\n10 a.m. - noon\nWH
 ERE: 170 Dundurn St S\, Hamilton at First Unitarian Church\n\n\nJoin Garne
 r Marsh\, Wellington Water Watchers\, Hamilton Watershed Management\, Gree
 n Venture\n\n\nCome join us! All are welcome! More information here:\n\n\n
 The event will open with a water song by the Mohawk mother-daughter team o
 f Marie and Elaina Jones. Then\, there will be a variety of speakers inclu
 ding a short film about the Garner Marsh\, updates from the Water Watchers
 \, City of Hamilton's Watershed Management group\, and Green Venture.\n\n\
 nThere will be activities for children. Please come and help spread the wo
 rk as we learn more about our local water and ecosystem!\n\n\nThe event is
  hosted by Ecolocke and the First Unitarian Climate Action Team and is FRE
 E to all!\n\n\n\n\n\n\n\n\n\n\n\n\n\n\n\n\n\n\n\n\n\n\n\n\n\n\n\n\n\n\n\n\
 n\n \n\n\n\n\n\n\n
LAST-MODIFIED:20260423T150531
LOCATION:
SUMMARY:Water is Life\, not a commodity
URL;VALUE=URI:https://www.rockonlocke.ca/events/water-is-life-not-a-commodi
 ty/2026-05-02
ATTACH;FILENAME=669361593_962079739848090_4874505393714075964_n.jpg;FMTTYPE
 =image/jpeg:https://dq5pwpg1q8ru0.cloudfront.net/2026/04/23/19/05/31/e7dd4
 51f-a2fe-4515-a5e9-68df492ee95b/669361593_962079739848090_4874505393714075
 964_n.jpg
END:VEVENT
END:VCALENDAR
