BEGIN:VCALENDAR
VERSION:2.0
PRODID:icalendar-ruby
CALSCALE:GREGORIAN
METHOD:PUBLISH
BEGIN:VEVENT
DTSTAMP:20260424T093750Z
UID:975-8220@rockonlocke.ca
DTSTART;VALUE=DATE:20260514
DTEND;VALUE=DATE:20260515
CLASS:PUBLIC
CREATED:20260423T200642
DESCRIPTION:All are welcome to join in two days of prayer\, learning\, and 
 fellowship in the beauty of Christ's Church Cathedral\, Hamilton. Guided b
 y Brother James Koester\, we will explore prayer in the catholic tradition
  of Anglicanism through teaching and practice.\nThe conference is open to 
 everyone\, lay and ordained\, long-time pray-ers and those curious about p
 rayer practices.\nDetails and registration forms are available here.\n 
LAST-MODIFIED:20260423T200642
LOCATION:Christ's Church Cathedral - 252 James St N\, Hamilton
SUMMARY:Teach Us to Pray Conference
URL;VALUE=URI:https://www.rockonlocke.ca/events/teach-us-to-pray-conference
 /2026-05-14
ATTACH;FILENAME=TUTP_Save_the_Date.png;FMTTYPE=image/png:https://dq5pwpg1q8
 ru0.cloudfront.net/2026/04/24/00/06/41/acf91239-0976-4d3d-9cdb-27538dca212
 1/TUTP_Save_the_Date.png
END:VEVENT
END:VCALENDAR
