BEGIN:VCALENDAR
VERSION:2.0
PRODID:icalendar-ruby
CALSCALE:GREGORIAN
METHOD:PUBLISH
BEGIN:VEVENT
DTSTAMP:20260424T200156Z
UID:978-8224@rockonlocke.ca
DTSTART:20260506T160000Z
DTEND:20260506T170000Z
CLASS:PUBLIC
CREATED:20260423T215801
DESCRIPTION:
LAST-MODIFIED:20260423T215801
LOCATION:St John's Activity Centre
SUMMARY:Spring Potluck Lunch
URL;VALUE=URI:https://www.rockonlocke.ca/events/spring-potluck-lunch/2026-0
 5-06
ATTACH;FILENAME=St John’s Spring Lunch.png;FMTTYPE=image/png:https://dq5p
 wpg1q8ru0.cloudfront.net/2026/04/24/01/56/55/04ea31f6-5107-4e63-8a2d-fc1b9
 dfdcfe1/St%20John%E2%80%99s%20Spring%20Lunch.png
END:VEVENT
END:VCALENDAR
