BEGIN:VCALENDAR
VERSION:2.0
PRODID:icalendar-ruby
CALSCALE:GREGORIAN
METHOD:PUBLISH
BEGIN:VEVENT
DTSTAMP:20260419T194003Z
UID:974-8212@rockonlocke.ca
DTSTART:20260502T140000Z
DTEND:20260502T200000Z
CLASS:PUBLIC
CREATED:20260416T142916
DESCRIPTION:Concurrent with Doors Open Hamilton and Janes Walk events happe
 ning around town\, Church of St John the Evangelist will be open to the pu
 blic from 10am to 4pm on Saturday\, May 2. The open house will feature inf
 ormal tours of the worship space\, a display a liturgical vestments\, demo
 nstrations of the pipe organ throughout the day\, and more. \nPlease do d
 rop in\, and bring a friend!\nFor more information or get involved\, pleas
 e contact Wendy Leigh Bell or Sarah Wayland. 
LAST-MODIFIED:20260416T142916
LOCATION:320 Charlton Ave West
SUMMARY:Open House 
URL;VALUE=URI:https://www.rockonlocke.ca/events/open-house/2026-05-02
ATTACH;FILENAME=open house event.png;FMTTYPE=image/png:https://dq5pwpg1q8ru
 0.cloudfront.net/2026/04/16/18/29/15/3a8d5cee-0435-4283-b250-94c1b0c08d19/
 open%20house%20event.png
END:VEVENT
END:VCALENDAR
