BEGIN:VCALENDAR
VERSION:2.0
PRODID:icalendar-ruby
CALSCALE:GREGORIAN
METHOD:PUBLISH
BEGIN:VEVENT
DTSTAMP:20260424T200646Z
UID:979-8225@rockonlocke.ca
DTSTART:20260510T130000Z
DTEND:20260510T164500Z
CLASS:PUBLIC
CREATED:20260424T095459
DESCRIPTION:Join us on Sunday\, May 10th for a Cake Auction in the Activity
  Centre.  Bidding starts at 9:00 am and ends at 12:45.
LAST-MODIFIED:20260424T095459
LOCATION:Activity Centre
SUMMARY:Cake Auction
URL;VALUE=URI:https://www.rockonlocke.ca/events/cake-auction/2026-05-10
ATTACH;FILENAME="Cakes, Cakes, Cakes (2).png";FMTTYPE=image/png:https://dq5
 pwpg1q8ru0.cloudfront.net/2026/04/24/13/54/59/cc371deb-ef06-471c-9141-3d24
 32016903/Cakes,%20Cakes,%20Cakes%20(2).png
END:VEVENT
END:VCALENDAR
